BEGIN:VCALENDAR
VERSION:2.0
PRODID:-//Victoria Park Civic Association - ECPv6.3.1//NONSGML v1.0//EN
CALSCALE:GREGORIAN
METHOD:PUBLISH
X-ORIGINAL-URL:https://vpca.org
X-WR-CALDESC:Events for Victoria Park Civic Association
REFRESH-INTERVAL;VALUE=DURATION:PT1H
X-Robots-Tag:noindex
X-PUBLISHED-TTL:PT1H
BEGIN:VTIMEZONE
TZID:Europe/Paris
BEGIN:DAYLIGHT
TZOFFSETFROM:+0100
TZOFFSETTO:+0200
TZNAME:CEST
DTSTART:20240331T010000
END:DAYLIGHT
BEGIN:STANDARD
TZOFFSETFROM:+0200
TZOFFSETTO:+0100
TZNAME:CET
DTSTART:20241027T010000
END:STANDARD
END:VTIMEZONE
BEGIN:VEVENT
DTSTART;TZID=Europe/Paris:20240317T080000
DTEND;TZID=Europe/Paris:20240317T100000
DTSTAMP:20260421T042904
CREATED:20240224T080928Z
LAST-MODIFIED:20240224T080928Z
UID:721-1710662400-1710669600@vpca.org
SUMMARY:Fort Lauderdale Shamrock Run
DESCRIPTION:The code is: VICPARK15OFF (This will give anyone who registers 15% off)\n* Start Time: 8:00 am for the Shamrock Run; 9:30 am for the Little Lucky Leprechaun Dash\n* Start And Finish Line: Huizenga Plaza\, 32 E. Las Olas\, Fort Lauderdale\, FL 33301
URL:https://vpca.org/event/fort-lauderdale-shamrock-run/
CATEGORIES:City Events,Recreational
END:VEVENT
BEGIN:VEVENT
DTSTART;VALUE=DATE:20240209
DTEND;VALUE=DATE:20240210
DTSTAMP:20260421T042904
CREATED:20240117T180055Z
LAST-MODIFIED:20240206T195606Z
UID:608-1707436800-1707523199@vpca.org
SUMMARY:Victoria Park Wine Tour
DESCRIPTION:
URL:https://vpca.org/event/victoria-park-wine-tour/
LOCATION:Victoria Park
CATEGORIES:Recreational
ATTACH;FMTTYPE=image/png:https://vpca.org/wp-content/uploads/2024/01/IMG_4308.png
END:VEVENT
END:VCALENDAR