BEGIN:VCALENDAR
VERSION:2.0
PRODID:-//Victoria Park Civic Association - ECPv6.3.1//NONSGML v1.0//EN
CALSCALE:GREGORIAN
METHOD:PUBLISH
X-ORIGINAL-URL:https://vpca.org
X-WR-CALDESC:Events for Victoria Park Civic Association
REFRESH-INTERVAL;VALUE=DURATION:PT1H
X-Robots-Tag:noindex
X-PUBLISHED-TTL:PT1H
BEGIN:VTIMEZONE
TZID:Europe/Paris
BEGIN:DAYLIGHT
TZOFFSETFROM:+0100
TZOFFSETTO:+0200
TZNAME:CEST
DTSTART:20240331T010000
END:DAYLIGHT
BEGIN:STANDARD
TZOFFSETFROM:+0200
TZOFFSETTO:+0100
TZNAME:CET
DTSTART:20241027T010000
END:STANDARD
END:VTIMEZONE
BEGIN:VEVENT
DTSTART;TZID=Europe/Paris:20240223T180000
DTEND;TZID=Europe/Paris:20240223T200000
DTSTAMP:20260422T013128
CREATED:20240224T080354Z
LAST-MODIFIED:20240224T080354Z
UID:720-1708711200-1708718400@vpca.org
SUMMARY:Batch and the Victoria Park Civic Association want to share the LOVE
DESCRIPTION:Batch will be offering an extended happy hour and complimentary bites to Victoria Park residents only.\nDon’t miss out on the chance to meet your neighbors and enjoy the best that Batch has to offer.\n**Proof of resident is required**
URL:https://vpca.org/event/batch-and-the-victoria-park-civic-association-want-to-share-the-love/
LOCATION:Fl
CATEGORIES:Social
END:VEVENT
END:VCALENDAR