BEGIN:VCALENDAR
VERSION:2.0
PRODID:-//Victoria Park Civic Association - ECPv6.3.1//NONSGML v1.0//EN
CALSCALE:GREGORIAN
METHOD:PUBLISH
X-WR-CALNAME:Victoria Park Civic Association
X-ORIGINAL-URL:https://vpca.org
X-WR-CALDESC:Events for Victoria Park Civic Association
REFRESH-INTERVAL;VALUE=DURATION:PT1H
X-Robots-Tag:noindex
X-PUBLISHED-TTL:PT1H
BEGIN:VTIMEZONE
TZID:Europe/Paris
BEGIN:DAYLIGHT
TZOFFSETFROM:+0100
TZOFFSETTO:+0200
TZNAME:CEST
DTSTART:20240331T010000
END:DAYLIGHT
BEGIN:STANDARD
TZOFFSETFROM:+0200
TZOFFSETTO:+0100
TZNAME:CET
DTSTART:20241027T010000
END:STANDARD
END:VTIMEZONE
BEGIN:VEVENT
DTSTART;TZID=Europe/Paris:20240307T173000
DTEND;TZID=Europe/Paris:20240307T193000
DTSTAMP:20260422T012934
CREATED:20240224T081122Z
LAST-MODIFIED:20240224T081122Z
UID:722-1709832600-1709839800@vpca.org
SUMMARY:Foxy Brown and Victoria Park Civic Association Happy Hour
DESCRIPTION:Foxy Brown would like to invite our residents and our members to enjoy an extended Happy Hour.\nFirst drink is FREE\, Half price menu appetizers $1 off beer & specialty cocktails $5\, select spirits\n **Proof of residency is required**
URL:https://vpca.org/event/foxy-brown-and-victoria-park-civic-association-happy-hour/
LOCATION:Fl
CATEGORIES:Social
END:VEVENT
END:VCALENDAR